BEGIN:VCALENDAR
VERSION:2.0
PRODID:-//Barry&#039;s Country Vogue Dance Music and Entertainment - ECPv5.3.1//NONSGML v1.0//EN
CALSCALE:GREGORIAN
METHOD:PUBLISH
X-WR-CALNAME:Barry&#039;s Country Vogue Dance Music and Entertainment
X-ORIGINAL-URL:https://barryscountryvogue.com.au
X-WR-CALDESC:Events for Barry&#039;s Country Vogue Dance Music and Entertainment
BEGIN:VTIMEZONE
TZID:Australia/Sydney
BEGIN:STANDARD
TZOFFSETFROM:+1100
TZOFFSETTO:+1000
TZNAME:AEST
DTSTART:20210403T160000
END:STANDARD
BEGIN:DAYLIGHT
TZOFFSETFROM:+1000
TZOFFSETTO:+1100
TZNAME:AEDT
DTSTART:20211002T160000
END:DAYLIGHT
END:VTIMEZONE
BEGIN:VEVENT
DTSTART;TZID=Australia/Sydney:20210221T140000
DTEND;TZID=Australia/Sydney:20210221T140000
DTSTAMP:20210223T223637
CREATED:20201124T235802Z
LAST-MODIFIED:20210216T003238Z
UID:3699-1613916000-1613916000@barryscountryvogue.com.au
SUMMARY:Canowindra RSL Club
DESCRIPTION:[vc_row][vc_column][vc_column_text] \nDance program for this afternoon…\n[/vc_column_text][/vc_column][/vc_row][vc_row][vc_column width=”1/2″][vc_column_text]1st Set \n\nMidnight Tango – Tangoette\nSindy Swing – Dixie Swing\nSwing Waltz\nDynasty Blues\nWaltz Catherine – Waltz Evermore\nSally Anne Cha Cha – pontinental Cha Cha\nEdinburgh Saunter – Rainbow Saunter\nDownton Abbey Waltz\nFestival Jive Jo Jive\n\n[/vc_column_text][/vc_column][vc_column width=”1/2″][vc_column_text]2nd Set \n\nNew Vogue Waltz\nMayfair Quickstep – Linden Swing\nBarclay Blues\nVanity – Honeysuckle\nQueen of Hearts Rumba – Rumba One\nKillarney Vale Waltz – LaPatony Waltz\nAlpha – Sweetheart Waltz\nLilac Waltz\nBalmoral Blues\n\n[/vc_column_text][/vc_column][/vc_row]
URL:https://barryscountryvogue.com.au/event/canowindra-rsl-club-6/
LOCATION:Canowindra RSL Club\, 93 Gaskill St\, Canowindra\, NSW\, 2804\, Australia
GEO:-33.5640196;148.6597649
X-APPLE-STRUCTURED-LOCATION;VALUE=URI;X-ADDRESS=Canowindra RSL Club 93 Gaskill St Canowindra NSW 2804 Australia;X-APPLE-RADIUS=500;X-TITLE=93 Gaskill St:geo:148.6597649,-33.5640196
END:VEVENT
END:VCALENDAR