BEGIN:VCALENDAR
VERSION:2.0
PRODID:-//Barry&#039;s Country Vogue Dance Music and Entertainment - ECPv5.3.1//NONSGML v1.0//EN
CALSCALE:GREGORIAN
METHOD:PUBLISH
X-WR-CALNAME:Barry&#039;s Country Vogue Dance Music and Entertainment
X-ORIGINAL-URL:https://barryscountryvogue.com.au
X-WR-CALDESC:Events for Barry&#039;s Country Vogue Dance Music and Entertainment
BEGIN:VTIMEZONE
TZID:Australia/Sydney
BEGIN:STANDARD
TZOFFSETFROM:+1100
TZOFFSETTO:+1000
TZNAME:AEST
DTSTART:20210403T160000
END:STANDARD
BEGIN:DAYLIGHT
TZOFFSETFROM:+1000
TZOFFSETTO:+1100
TZNAME:AEDT
DTSTART:20211002T160000
END:DAYLIGHT
END:VTIMEZONE
BEGIN:VEVENT
DTSTART;TZID=Australia/Sydney:20210308T193000
DTEND;TZID=Australia/Sydney:20210308T193000
DTSTAMP:20210223T223800
CREATED:20201125T000948Z
LAST-MODIFIED:20201125T000948Z
UID:3703-1615231800-1615231800@barryscountryvogue.com.au
SUMMARY:Uniting Church Hall - Orange
DESCRIPTION:[vc_row][vc_column][vc_column_text] \nProgram for this evening…\n[/vc_column_text][/vc_column][/vc_row][vc_row][vc_column width=”1/2″][vc_column_text]1st Set \n\nProgram pending\n\n[/vc_column_text][/vc_column][vc_column width=”1/2″][vc_column_text]2nd Set \n\nProgram pending\n\n[/vc_column_text][/vc_column][/vc_row]
URL:https://barryscountryvogue.com.au/event/uniting-church-hall-orange/
LOCATION:Uniting Church Hall – Orange\, Anson Street\, Orange\, NSW\, 2794\, Australia
END:VEVENT
END:VCALENDAR