BEGIN:VCALENDAR
VERSION:2.0
PRODID:-//Barry&#039;s Country Vogue Dance Music and Entertainment - ECPv4.6.8//NONSGML v1.0//EN
CALSCALE:GREGORIAN
METHOD:PUBLISH
X-WR-CALNAME:Barry&#039;s Country Vogue Dance Music and Entertainment
X-ORIGINAL-URL:https://barryscountryvogue.com.au
X-WR-CALDESC:Events for Barry&#039;s Country Vogue Dance Music and Entertainment
BEGIN:VEVENT
DTSTART;TZID=Australia/Sydney:20190407T140000
DTEND;TZID=Australia/Sydney:20190407T140000
DTSTAMP:20190301T170254
CREATED:20181118T204856Z
LAST-MODIFIED:20181118T204856Z
UID:2609-1554645600-1554645600@barryscountryvogue.com.au
SUMMARY:Canowindra Services Club
DESCRIPTION:[vc_row][vc_column][vc_column_text] \nDance program for this evening…\n[/vc_column_text][/vc_column][/vc_row][vc_row][vc_column width=”1/2″][vc_column_text]1st Set \n\nProgram pending\n\n[/vc_column_text][/vc_column][vc_column width=”1/2″][vc_column_text]2nd Set \n\nProgram pending\n\n[/vc_column_text][/vc_column][/vc_row] \n
URL:https://barryscountryvogue.com.au/event/canowindra-services-club-6/
LOCATION:93 Gaskill St\, Canowindra\, NSW\, 2804\, Australia
GEO:-33.5640196;148.6597649
X-APPLE-STRUCTURED-LOCATION;VALUE=URI;X-ADDRESS=93 Gaskill St Canowindra NSW 2804 Australia;X-APPLE-RADIUS=500;X-TITLE=93 Gaskill St:geo:148.6597649,-33.5640196
END:VEVENT
END:VCALENDAR