BEGIN:VCALENDAR
VERSION:2.0
PRODID:-//Barry&#039;s Country Vogue Dance Music and Entertainment - ECPv4.6.8//NONSGML v1.0//EN
CALSCALE:GREGORIAN
METHOD:PUBLISH
X-WR-CALNAME:Barry&#039;s Country Vogue Dance Music and Entertainment
X-ORIGINAL-URL:https://barryscountryvogue.com.au
X-WR-CALDESC:Events for Barry&#039;s Country Vogue Dance Music and Entertainment
BEGIN:VEVENT
DTSTART;TZID=Australia/Sydney:20190504T193000
DTEND;TZID=Australia/Sydney:20190504T193000
DTSTAMP:20190301T170452
CREATED:20181118T210139Z
LAST-MODIFIED:20181118T210139Z
UID:2613-1556998200-1556998200@barryscountryvogue.com.au
SUMMARY:Temora Ball
DESCRIPTION:[vc_row][vc_column][vc_column_text] \nDance program for this evening…\n[/vc_column_text][/vc_column][/vc_row][vc_row][vc_column width=”1/2″][vc_column_text]1st Set \n\nProgram pending\n\n[/vc_column_text][/vc_column][vc_column width=”1/2″][vc_column_text]2nd Set \n\nProgram pending\n\n[/vc_column_text][/vc_column][/vc_row] \n
URL:https://barryscountryvogue.com.au/event/temora-ball/
LOCATION:105 Loftus Street\, Temora\, NSW\, 2666\, Australia
GEO:-34.4462428;147.5358512
X-APPLE-STRUCTURED-LOCATION;VALUE=URI;X-ADDRESS=105 Loftus Street Temora NSW 2666 Australia;X-APPLE-RADIUS=500;X-TITLE=105 Loftus Street:geo:147.5358512,-34.4462428
END:VEVENT
END:VCALENDAR